BEGIN:VCALENDAR
VERSION:2.0
PRODID:-//Di Arie Vineyard &amp; Winery - ECPv6.15.20//NONSGML v1.0//EN
CALSCALE:GREGORIAN
METHOD:PUBLISH
X-WR-CALNAME:Di Arie Vineyard &amp; Winery
X-ORIGINAL-URL:https://cgdiarie.com
X-WR-CALDESC:Events for Di Arie Vineyard &amp; Winery
REFRESH-INTERVAL;VALUE=DURATION:PT1H
X-Robots-Tag:noindex
X-PUBLISHED-TTL:PT1H
BEGIN:VTIMEZONE
TZID:America/Los_Angeles
BEGIN:DAYLIGHT
TZOFFSETFROM:-0800
TZOFFSETTO:-0700
TZNAME:PDT
DTSTART:20240310T100000
END:DAYLIGHT
BEGIN:STANDARD
TZOFFSETFROM:-0700
TZOFFSETTO:-0800
TZNAME:PST
DTSTART:20241103T090000
END:STANDARD
BEGIN:DAYLIGHT
TZOFFSETFROM:-0800
TZOFFSETTO:-0700
TZNAME:PDT
DTSTART:20250309T100000
END:DAYLIGHT
BEGIN:STANDARD
TZOFFSETFROM:-0700
TZOFFSETTO:-0800
TZNAME:PST
DTSTART:20251102T090000
END:STANDARD
BEGIN:DAYLIGHT
TZOFFSETFROM:-0800
TZOFFSETTO:-0700
TZNAME:PDT
DTSTART:20260308T100000
END:DAYLIGHT
BEGIN:STANDARD
TZOFFSETFROM:-0700
TZOFFSETTO:-0800
TZNAME:PST
DTSTART:20261101T090000
END:STANDARD
END:VTIMEZONE
BEGIN:VEVENT
DTSTART;TZID=America/Los_Angeles:20251025T113000
DTEND;TZID=America/Los_Angeles:20251025T150000
DTSTAMP:20260420T102039
CREATED:20251023T180106Z
LAST-MODIFIED:20251023T180116Z
UID:10000259-1761391800-1761404400@cgdiarie.com
SUMMARY:🥟DI ARIE DUMPLING BAR OPEN & INDOORS
DESCRIPTION:DI ARIE DUMPLING BAR  \n\n\n\nSATURDAY ONLY٠OCTOBER 25 11-3 pm \n\n\n\nNow Indoors – Rain or Shine! \n\n\n\nTaste Our 2023 Cabernet Sauvignon Futures Straight From The Barrel \n\n\n\nSaturday & Sunday 11-3:30 pm \n\n\n\nCome for the wine\, stay for the dumplings\, \n\n\n\nand leave with something to look forward to.
URL:https://cgdiarie.com/events/%f0%9f%a5%9fdi-arie-dumpling-bar-open-indoors/
END:VEVENT
END:VCALENDAR