BEGIN:VCALENDAR
VERSION:2.0
PRODID:-//Di Arie Vineyard &amp; Winery - ECPv6.15.20//NONSGML v1.0//EN
CALSCALE:GREGORIAN
METHOD:PUBLISH
X-WR-CALNAME:Di Arie Vineyard &amp; Winery
X-ORIGINAL-URL:https://cgdiarie.com
X-WR-CALDESC:Events for Di Arie Vineyard &amp; Winery
REFRESH-INTERVAL;VALUE=DURATION:PT1H
X-Robots-Tag:noindex
X-PUBLISHED-TTL:PT1H
BEGIN:VTIMEZONE
TZID:America/Los_Angeles
BEGIN:DAYLIGHT
TZOFFSETFROM:-0800
TZOFFSETTO:-0700
TZNAME:PDT
DTSTART:20240310T100000
END:DAYLIGHT
BEGIN:STANDARD
TZOFFSETFROM:-0700
TZOFFSETTO:-0800
TZNAME:PST
DTSTART:20241103T090000
END:STANDARD
BEGIN:DAYLIGHT
TZOFFSETFROM:-0800
TZOFFSETTO:-0700
TZNAME:PDT
DTSTART:20250309T100000
END:DAYLIGHT
BEGIN:STANDARD
TZOFFSETFROM:-0700
TZOFFSETTO:-0800
TZNAME:PST
DTSTART:20251102T090000
END:STANDARD
BEGIN:DAYLIGHT
TZOFFSETFROM:-0800
TZOFFSETTO:-0700
TZNAME:PDT
DTSTART:20260308T100000
END:DAYLIGHT
BEGIN:STANDARD
TZOFFSETFROM:-0700
TZOFFSETTO:-0800
TZNAME:PST
DTSTART:20261101T090000
END:STANDARD
END:VTIMEZONE
BEGIN:VEVENT
DTSTART;TZID=America/Los_Angeles:20250830T110000
DTEND;TZID=America/Los_Angeles:20250830T160000
DTSTAMP:20260421T052810
CREATED:20250702T175431Z
LAST-MODIFIED:20250820T144822Z
UID:10000247-1756551600-1756569600@cgdiarie.com
SUMMARY:OPEN HOUSE & HARVEST WALK
DESCRIPTION:LIVE MUSIC BY JAMES M. DAY\n\n\n\n \n\n\n\n \n\n\n\n\n\n\n\n \n\n\n\n\n\nSATURDAY\, AUGUST 30\, 2025 \n\n\n\n11AM – 4PM \n\n\n\nDI ARIE WINERY – 5200 Di Arie Road\, Mt Aukum\, CA 95656 \n\n\n\n530-620-6500 \n\n\n\nWe Promise You An Exciting Day! \n\n\n\nLive Music By James M. Day \n\n\n\nGenerous Offerings Of Hearty Appetizers Will Be Served \n\n\n\nBarrel Taste Our GST Futures \n\n\n\nGST Futures \n\n\n\nWALK IN THE VINEYARDS WITH WINEMAKER / PROPRIETOR CHAIM GUR-ARIEH \n\n\n\n \n\n\n\nWe’ll provide bottled water\, so be sure to stay hydrated throughout your visit. Please wear closed-toe walking shoes\, as rattlesnakes have been spotted in the vineyards avoid sandals or heels. Don’t forget sunscreen and a hat\, as there is little shade. Visits are by reservation only with limited availability.\n\n\n\nONLY ONE SESSION 12:30PM \n\n\n\nBy Reservation Only \n\n\n\nLimited Reservations Available  \n\n\n\nPlease call 530-620-6500 to book.
URL:https://cgdiarie.com/events/live-music-by-james-day-2/
ATTACH;FMTTYPE=image/jpeg:https://cgdiarie.com/wp-content/uploads/2025/07/Walk-In-Vineyard-August-2025-mock-up.jpg
END:VEVENT
END:VCALENDAR