BEGIN:VCALENDAR
VERSION:2.0
PRODID:-//Di Arie Vineyard &amp; Winery - ECPv6.15.20//NONSGML v1.0//EN
CALSCALE:GREGORIAN
METHOD:PUBLISH
X-WR-CALNAME:Di Arie Vineyard &amp; Winery
X-ORIGINAL-URL:https://cgdiarie.com
X-WR-CALDESC:Events for Di Arie Vineyard &amp; Winery
REFRESH-INTERVAL;VALUE=DURATION:PT1H
X-Robots-Tag:noindex
X-PUBLISHED-TTL:PT1H
BEGIN:VTIMEZONE
TZID:America/Los_Angeles
BEGIN:DAYLIGHT
TZOFFSETFROM:-0800
TZOFFSETTO:-0700
TZNAME:PDT
DTSTART:20240310T100000
END:DAYLIGHT
BEGIN:STANDARD
TZOFFSETFROM:-0700
TZOFFSETTO:-0800
TZNAME:PST
DTSTART:20241103T090000
END:STANDARD
BEGIN:DAYLIGHT
TZOFFSETFROM:-0800
TZOFFSETTO:-0700
TZNAME:PDT
DTSTART:20250309T100000
END:DAYLIGHT
BEGIN:STANDARD
TZOFFSETFROM:-0700
TZOFFSETTO:-0800
TZNAME:PST
DTSTART:20251102T090000
END:STANDARD
BEGIN:DAYLIGHT
TZOFFSETFROM:-0800
TZOFFSETTO:-0700
TZNAME:PDT
DTSTART:20260308T100000
END:DAYLIGHT
BEGIN:STANDARD
TZOFFSETFROM:-0700
TZOFFSETTO:-0800
TZNAME:PST
DTSTART:20261101T090000
END:STANDARD
END:VTIMEZONE
BEGIN:VEVENT
DTSTART;TZID=America/Los_Angeles:20250628T113000
DTEND;TZID=America/Los_Angeles:20250628T160000
DTSTAMP:20260420T030337
CREATED:20250606T152607Z
LAST-MODIFIED:20250619T181908Z
UID:10000227-1751110200-1751126400@cgdiarie.com
SUMMARY:Tasting With The Winemaker
DESCRIPTION:The Fifth Taste Revealed: \n\n\n\nUmami \n\n\n\nJoin Chaim for an interactive deep dive into umami & wine! \n\n\n\nTaste our new line of Hikaru the sushi wine\, \n\n\n\npaired with Prawns\, Cheeses\, and Mushrooms \n\n\n\nall rich in the umami taste. \n\n\n\nLimited spots! \n\n\n\nOnly Two Sessions \n\n\n\n11:30am & 1:30pm
URL:https://cgdiarie.com/events/tasting-with-the-winemaker-18/
ATTACH;FMTTYPE=image/png:https://cgdiarie.com/wp-content/uploads/2025/06/twwm06.28.png
END:VEVENT
END:VCALENDAR