BEGIN:VCALENDAR
VERSION:2.0
PRODID:-//Di Arie Vineyard &amp; Winery - ECPv6.15.20//NONSGML v1.0//EN
CALSCALE:GREGORIAN
METHOD:PUBLISH
X-ORIGINAL-URL:https://cgdiarie.com
X-WR-CALDESC:Events for Di Arie Vineyard &amp; Winery
REFRESH-INTERVAL;VALUE=DURATION:PT1H
X-Robots-Tag:noindex
X-PUBLISHED-TTL:PT1H
BEGIN:VTIMEZONE
TZID:America/Los_Angeles
BEGIN:DAYLIGHT
TZOFFSETFROM:-0800
TZOFFSETTO:-0700
TZNAME:PDT
DTSTART:20200308T100000
END:DAYLIGHT
BEGIN:STANDARD
TZOFFSETFROM:-0700
TZOFFSETTO:-0800
TZNAME:PST
DTSTART:20201101T090000
END:STANDARD
BEGIN:DAYLIGHT
TZOFFSETFROM:-0800
TZOFFSETTO:-0700
TZNAME:PDT
DTSTART:20210314T100000
END:DAYLIGHT
BEGIN:STANDARD
TZOFFSETFROM:-0700
TZOFFSETTO:-0800
TZNAME:PST
DTSTART:20211107T090000
END:STANDARD
BEGIN:DAYLIGHT
TZOFFSETFROM:-0800
TZOFFSETTO:-0700
TZNAME:PDT
DTSTART:20220313T100000
END:DAYLIGHT
BEGIN:STANDARD
TZOFFSETFROM:-0700
TZOFFSETTO:-0800
TZNAME:PST
DTSTART:20221106T090000
END:STANDARD
END:VTIMEZONE
BEGIN:VEVENT
DTSTART;TZID=America/Los_Angeles:20210724T110000
DTEND;TZID=America/Los_Angeles:20210724T160000
DTSTAMP:20260420T082250
CREATED:20210722T185006Z
LAST-MODIFIED:20210722T185512Z
UID:10000034-1627124400-1627142400@cgdiarie.com
SUMMARY:Live Music
DESCRIPTION:Sac City Little Big Band \n\n\n\nCome and have a blast\, listening to Fly Me to the Moon and having a glass of 2018 Summer Breeze\, ﻿perfectly suitable for the weather & the music! 
URL:https://cgdiarie.com/events/live-music/
LOCATION:Di Arie Tasting Room & Event Center\, 19919 Shenandoah School Road\, Plymouth\, Ca\, 95669\, United States
ATTACH;FMTTYPE=image/jpeg:https://cgdiarie.com/wp-content/uploads/2021/07/35213_137954302893038_6559506_n.jpg
END:VEVENT
END:VCALENDAR