BEGIN:VCALENDAR
VERSION:2.0
PRODID:-//Di Arie Vineyard &amp; Winery - ECPv6.15.20//NONSGML v1.0//EN
CALSCALE:GREGORIAN
METHOD:PUBLISH
X-ORIGINAL-URL:https://cgdiarie.com
X-WR-CALDESC:Events for Di Arie Vineyard &amp; Winery
REFRESH-INTERVAL;VALUE=DURATION:PT1H
X-Robots-Tag:noindex
X-PUBLISHED-TTL:PT1H
BEGIN:VTIMEZONE
TZID:America/Los_Angeles
BEGIN:DAYLIGHT
TZOFFSETFROM:-0800
TZOFFSETTO:-0700
TZNAME:PDT
DTSTART:20200308T100000
END:DAYLIGHT
BEGIN:STANDARD
TZOFFSETFROM:-0700
TZOFFSETTO:-0800
TZNAME:PST
DTSTART:20201101T090000
END:STANDARD
BEGIN:DAYLIGHT
TZOFFSETFROM:-0800
TZOFFSETTO:-0700
TZNAME:PDT
DTSTART:20210314T100000
END:DAYLIGHT
BEGIN:STANDARD
TZOFFSETFROM:-0700
TZOFFSETTO:-0800
TZNAME:PST
DTSTART:20211107T090000
END:STANDARD
BEGIN:DAYLIGHT
TZOFFSETFROM:-0800
TZOFFSETTO:-0700
TZNAME:PDT
DTSTART:20220313T100000
END:DAYLIGHT
BEGIN:STANDARD
TZOFFSETFROM:-0700
TZOFFSETTO:-0800
TZNAME:PST
DTSTART:20221106T090000
END:STANDARD
END:VTIMEZONE
BEGIN:VEVENT
DTSTART;TZID=America/Los_Angeles:20210225T170000
DTEND;TZID=America/Los_Angeles:20210225T180000
DTSTAMP:20260421T192046
CREATED:20210118T234240Z
LAST-MODIFIED:20210118T235628Z
UID:10000018-1614272400-1614276000@cgdiarie.com
SUMMARY:Live Wine Tasting Webinar & Raffle with the Winemaker
DESCRIPTION:Join expert Winemaker Chaim Gur-Arieh\, his wife Elisheva & daughter Sivan as they taste wines\, tell stories\, and engage with you\, answering questions and having fun in an hour of wine and a good time\, raffling off wine & merch. Click here to Purchase the Wine Tasting Kit Chaim will be tasting!  \n\n\n\nTo Participate Register on Zoom Now! httpss://us02web.zoom.us/webinar/register/WN_e2I6ScQITxiCWyBJx6GJSQ
URL:https://cgdiarie.com/events/live-wine-tasting-webinar-raffle-with-the-winemaker/2021-02-25/
LOCATION:Zoom Webinar
ATTACH;FMTTYPE=image/jpeg:https://cgdiarie.com/wp-content/uploads/2021/01/girlwithcomputer.jpg
END:VEVENT
END:VCALENDAR