BEGIN:VCALENDAR
VERSION:2.0
PRODID:-//Di Arie Vineyard &amp; Winery - ECPv6.15.20//NONSGML v1.0//EN
CALSCALE:GREGORIAN
METHOD:PUBLISH
X-ORIGINAL-URL:https://cgdiarie.com
X-WR-CALDESC:Events for Di Arie Vineyard &amp; Winery
REFRESH-INTERVAL;VALUE=DURATION:PT1H
X-Robots-Tag:noindex
X-PUBLISHED-TTL:PT1H
BEGIN:VTIMEZONE
TZID:America/Los_Angeles
BEGIN:DAYLIGHT
TZOFFSETFROM:-0800
TZOFFSETTO:-0700
TZNAME:PDT
DTSTART:20190310T100000
END:DAYLIGHT
BEGIN:STANDARD
TZOFFSETFROM:-0700
TZOFFSETTO:-0800
TZNAME:PST
DTSTART:20191103T090000
END:STANDARD
BEGIN:DAYLIGHT
TZOFFSETFROM:-0800
TZOFFSETTO:-0700
TZNAME:PDT
DTSTART:20200308T100000
END:DAYLIGHT
BEGIN:STANDARD
TZOFFSETFROM:-0700
TZOFFSETTO:-0800
TZNAME:PST
DTSTART:20201101T090000
END:STANDARD
BEGIN:DAYLIGHT
TZOFFSETFROM:-0800
TZOFFSETTO:-0700
TZNAME:PDT
DTSTART:20210314T100000
END:DAYLIGHT
BEGIN:STANDARD
TZOFFSETFROM:-0700
TZOFFSETTO:-0800
TZNAME:PST
DTSTART:20211107T090000
END:STANDARD
END:VTIMEZONE
BEGIN:VEVENT
DTSTART;TZID=America/Los_Angeles:20201117T090000
DTEND;TZID=America/Los_Angeles:20201117T100000
DTSTAMP:20260423T003907
CREATED:20201106T134143Z
LAST-MODIFIED:20201106T094534Z
UID:10000011-1605603600-1605607200@cgdiarie.com
SUMMARY:Winethology Masterclass – Now in Session
DESCRIPTION: \nWINETHOLOGY MASTERCLASS\n\nA Virtual Tasting on Facebook Live \n\n\nTuesday\, November 17\, 2020 @ 5pm PST ( Daylight Saving Time) \n\n \nWinethology Masterclass Wine Kit – Coming Soon – For More Details Please Visit \n\nVirtual Tasting Experience
URL:https://cgdiarie.com/events/winethology-masterclass-now-in-session/
CATEGORIES:Masterclass
ATTACH;FMTTYPE=image/jpeg:https://cgdiarie.com/wp-content/uploads/2020/11/Zoom-Picture-Master-Class-Sivan-Chaim-.jpg
END:VEVENT
END:VCALENDAR