BEGIN:VCALENDAR
VERSION:2.0
PRODID:-//Di Arie Vineyard &amp; Winery - ECPv6.15.20//NONSGML v1.0//EN
CALSCALE:GREGORIAN
METHOD:PUBLISH
X-WR-CALNAME:Di Arie Vineyard &amp; Winery
X-ORIGINAL-URL:https://cgdiarie.com
X-WR-CALDESC:Events for Di Arie Vineyard &amp; Winery
REFRESH-INTERVAL;VALUE=DURATION:PT1H
X-Robots-Tag:noindex
X-PUBLISHED-TTL:PT1H
BEGIN:VTIMEZONE
TZID:America/Los_Angeles
BEGIN:DAYLIGHT
TZOFFSETFROM:-0800
TZOFFSETTO:-0700
TZNAME:PDT
DTSTART:20200308T100000
END:DAYLIGHT
BEGIN:STANDARD
TZOFFSETFROM:-0700
TZOFFSETTO:-0800
TZNAME:PST
DTSTART:20201101T090000
END:STANDARD
BEGIN:DAYLIGHT
TZOFFSETFROM:-0800
TZOFFSETTO:-0700
TZNAME:PDT
DTSTART:20210314T100000
END:DAYLIGHT
BEGIN:STANDARD
TZOFFSETFROM:-0700
TZOFFSETTO:-0800
TZNAME:PST
DTSTART:20211107T090000
END:STANDARD
BEGIN:DAYLIGHT
TZOFFSETFROM:-0800
TZOFFSETTO:-0700
TZNAME:PDT
DTSTART:20220313T100000
END:DAYLIGHT
BEGIN:STANDARD
TZOFFSETFROM:-0700
TZOFFSETTO:-0800
TZNAME:PST
DTSTART:20221106T090000
END:STANDARD
END:VTIMEZONE
BEGIN:VEVENT
DTSTART;TZID=America/Los_Angeles:20210718T113000
DTEND;TZID=America/Los_Angeles:20210718T113000
DTSTAMP:20260420T110341
CREATED:20210708T184546Z
LAST-MODIFIED:20210708T184549Z
UID:10000027-1626607800-1626607800@cgdiarie.com
SUMMARY:“The Art of Wine Tasting”
DESCRIPTION:Join Elisheva Gur-Arieh For An Interactive Tasting \n\n\n\nSaturday\, July 17 & Sunday\, July 18 \n\n\n\nTwo Sessions 11:30am & 1:30pm \n\n\n\n Have you ever brought home a bottle of wine you thought you loved only to be  disappointed? \n\n\n\nYOU ARE NOT ALONE !!! Learn The Art Of Wine Tasting In A Interactive Tasting With Elisheva
URL:https://cgdiarie.com/events/the-art-of-wine-tasting-2/
ATTACH;FMTTYPE=image/jpeg:https://cgdiarie.com/wp-content/uploads/2020/08/elisheva-headshot.jpg
END:VEVENT
END:VCALENDAR