BEGIN:VCALENDAR
VERSION:2.0
PRODID:-//Di Arie Vineyard &amp; Winery - ECPv6.15.20//NONSGML v1.0//EN
CALSCALE:GREGORIAN
METHOD:PUBLISH
X-WR-CALNAME:Di Arie Vineyard &amp; Winery
X-ORIGINAL-URL:https://cgdiarie.com
X-WR-CALDESC:Events for Di Arie Vineyard &amp; Winery
REFRESH-INTERVAL;VALUE=DURATION:PT1H
X-Robots-Tag:noindex
X-PUBLISHED-TTL:PT1H
BEGIN:VTIMEZONE
TZID:America/Los_Angeles
BEGIN:DAYLIGHT
TZOFFSETFROM:-0800
TZOFFSETTO:-0700
TZNAME:PDT
DTSTART:20200308T100000
END:DAYLIGHT
BEGIN:STANDARD
TZOFFSETFROM:-0700
TZOFFSETTO:-0800
TZNAME:PST
DTSTART:20201101T090000
END:STANDARD
BEGIN:DAYLIGHT
TZOFFSETFROM:-0800
TZOFFSETTO:-0700
TZNAME:PDT
DTSTART:20210314T100000
END:DAYLIGHT
BEGIN:STANDARD
TZOFFSETFROM:-0700
TZOFFSETTO:-0800
TZNAME:PST
DTSTART:20211107T090000
END:STANDARD
BEGIN:DAYLIGHT
TZOFFSETFROM:-0800
TZOFFSETTO:-0700
TZNAME:PDT
DTSTART:20220313T100000
END:DAYLIGHT
BEGIN:STANDARD
TZOFFSETFROM:-0700
TZOFFSETTO:-0800
TZNAME:PST
DTSTART:20221106T090000
END:STANDARD
END:VTIMEZONE
BEGIN:VEVENT
DTSTART;TZID=America/Los_Angeles:20210716T110000
DTEND;TZID=America/Los_Angeles:20210716T163000
DTSTAMP:20260420T110314
CREATED:20201210T054129Z
LAST-MODIFIED:20210716T001717Z
UID:10000013-1626433200-1626453000@cgdiarie.com
SUMMARY:Wine Tasting Experience In The Vineyards
DESCRIPTION:Enjoy flights of award-winning wines in our spacious\, stunning\, covid-safe tasting garden in the vineyards.\n\n\n\nEat delicious food cooked up in Taste Restaurant’s mobile kitchen on Saturdays & Sundays. Soak in the sunshine or cozy up by a heater. Your comfort is our priority.\n\n\n\n \n\n\n\n\n\n\n\n\n\n\n\n					\n						\n						Share on Facebook\n					\n				\n					\n						\n						Share on Twitter\n					\n				\n					\n						\n						Share on Pinterest\n					\n				\n					\n						\n						Share on Linkedin\n					\n				\n					\n						\n						Share via Email
URL:https://cgdiarie.com/events/wine-tasting-experience-in-the-vineyards-2021-07-16/
LOCATION:Di Arie Tasting Room\, 19919 Shenandoah School Rd\, Plymouth\, CA\, 95669\, United States
CATEGORIES:Tasting
END:VEVENT
END:VCALENDAR